BEGIN:VCALENDAR
VERSION:2.0
PRODID:-//wp-events-plugin.com//6.6.4.4//EN
BEGIN:VEVENT
UID:63@indomelati.eu
DTSTART:20260425T111500Z
DTEND:20260425T150000Z
DTSTAMP:20260312T155159Z
URL:https://indomelati.eu/evenementen/de-tweede-rit-van-twee-zaterdagmidda
 g-25-april/
SUMMARY:De tweede rit van twee zaterdagmiddag 25 april
DESCRIPTION:De tweede rit zaterdagmiddag 25 april\n\nVerzamelplek 12.15 uur
  Mac Donalds Winschoten\n\nWaar : Beerta\nVoor : 32 Bewoners Woonvorm Cura
 xl\nAdres : Rozenstraat 2 Beerta\n\nDraaiboek:\n\n13.00 uur : aanwezig Cur
 axl met koffie of thee\n13.30 uur : Plaatsnemen trike eerste ronde\n13.45 
 uur : Vertrek eerst ronde van de of 5 !\n\n16.00 uur .Einde middag rit met
  eventueel glaasje fris.\n\nBij slecht weer wordt er uiteraard niet gerede
 n.
ATTACH;FMTTYPE=image/jpeg:/wp-content/uploads/2026/03/Cura-XL.webp
LOCATION:Mac Donalds\, Beertsterweg 1\, Winschoten\, Nederland
X-APPLE-STRUCTURED-LOCATION;VALUE=URI;X-ADDRESS=Beertsterweg 1\, Winschoten
 \, Nederland;X-APPLE-RADIUS=100;X-TITLE=Mac Donalds:geo:0,0
END:VEVENT
END:VCALENDAR