BEGIN:VCALENDAR
VERSION:2.0
PRODID:-//wp-events-plugin.com//6.6.4.4//EN
BEGIN:VEVENT
UID:62@indomelati.eu
DTSTART:20260425T083000Z
DTEND:20260425T104500Z
DTSTAMP:20260312T154451Z
URL:https://indomelati.eu/evenementen/eerste-rit-van-twee-ritten-25-april-
 2026/
SUMMARY:Eerste rit van Twee ritten 25 april 2026.
DESCRIPTION:De eerste rit zaterdagochtend 25 april 2026.\n\nWaar : Winschot
 en\nVoor : 12 bewoners Lentis\nAdres : P.C. Hooftlaan 80\n\nVerzamelplek 0
 9.30 uur :\n\nKlijnstra Motoren\nPapierbaan 2G\nWinschoten\n\nDraaiboek:\n
 \n10.00 uur : aanwezig P.C. Hooftlaan 80 met koffie of thee\n10.30 uur : P
 laatsnemen trike eerste ronde\n10.45 uur : Vertrek\n11.15 uur : Aankomst P
 .C. Hooftlaan 80\n11.30 uur : Einde ochtendrit met eventueel glaasje fris.
 \n\nHierna bij Mac Donalds Winschoten ff eten en vanaf daar rond 12.45 uur
  richting Beerta.\n\nBij slecht weer wordt er uiteraard niet gereden.
ATTACH;FMTTYPE=image/jpeg:/wp-content/uploads/2026/03/Het-vondelhuys-winsc
 hoten.jpg
LOCATION:Klijnstra Motoren\, Papierbaan 2G \, Winschoten\, Nederland
X-APPLE-STRUCTURED-LOCATION;VALUE=URI;X-ADDRESS=Papierbaan 2G \, Winschoten
 \, Nederland;X-APPLE-RADIUS=100;X-TITLE=Klijnstra Motoren:geo:0,0
END:VEVENT
END:VCALENDAR