BEGIN:VCALENDAR
VERSION:2.0
PRODID:-//wp-events-plugin.com//6.6.4.4//EN
BEGIN:VEVENT
UID:47@indomelati.eu
DTSTART:20250705T120000Z
DTEND:20250705T160000Z
DTSTAMP:20250625T165408Z
URL:https://indomelati.eu/evenementen/rit-reed-de-houtfret-2025/
SUMMARY:Rit Red de Houtfret 2025
DESCRIPTION:Hoi allen\,\n5 juli is het weer zo ver!!!!!\n\nWe hebben van de
  biervereniging ''Red de Houtfret ''weer een kinderdag georganiseerd. Met 
 luchtkussens enz. Zoals elk jaar staat deze dag in het teken van het kind.
 \nZoals voorgaande jaren hebben we voor de rijders een lunch en natuurlijk
  de welbekende bbq na die tijd.\nHet is een open rit. Iedereen is welkom N
 atuurlijk hoop ik op gezellige mensen. En gezelligheid voor de kids.\n\nSk
 agerrak 107/109  Delfzijl       Klik hier\n\nTegen 13 uur aanwezig st
 art rit 13.30. 13.45.\nBbq is op eind vd ritten tegen 17 uur ongeveer\n\n\
 n\nGraag aanmelden bij\nMarco wever 0640676374\nJohan Schanssema 062020996
 9
ATTACH;FMTTYPE=image/jpeg:/wp-content/uploads/2023/05/a8d1a430-3e74-42fa-a
 099-156371a9703d.jpg
END:VEVENT
END:VCALENDAR