BEGIN:VCALENDAR
VERSION:2.0
PRODID:-//wp-events-plugin.com//6.6.4.4//EN
BEGIN:VEVENT
UID:70@indomelati.eu
DTSTART:20260502T081500Z
DTEND:20260502T110000Z
DTSTAMP:20260414T080051Z
URL:https://indomelati.eu/evenementen/rit-voor-cindy/
SUMMARY:Rit voor Cindy
DESCRIPTION:Rondrit zaterdagochtend 02 mei 2026\n\nWaar : Haren (Gron)\nVoo
 r : ongeveer 8 personen\nAdres : Ridderspoorweg 11\n\nVerzamelplek 09.15 u
 ur Parkeerplaats:\nCafetaria Kombuis\nWinschoterdiep 8\n9609 PD Waterhuize
 n\n\n09.30 uur vertrek richting Ridderspoorweg 11 te Haren\n\nBij aankomst
  ontvangen met koffie of thee\n\n10.15 uur : Plaatsnemen trike\n10.30 uur 
 : Vertrek Rondrit\n11.30 uur : Aankomst terug Haren\n12.00 uur einde de ro
 ndrit.\n\nZoals jullie weten wordt er een promofilmpje gemaakt\, maar van 
 hoe en wat is voor mij ook nog een raadsel.\nArend Dijk zal samenwerken me
 t Bart en Karin die het promofilmpje gaan realiseren.\n\nBij slecht weer w
 ordt er uiteraard niet gereden.\n\nHet zou fijn zijn dat wij als Stichting
  goed vertegenwoordigd zijn door onze eigen fullmembers. Ook Fullmembers d
 ie geen motor of trike kunnen/mogen rijden zijn evengoed welkom en belangr
 ijk voor het promofilmpje. Je kan misschien iets regelen om met iemand mee
  te rijden in een auto o.i.d.
ATTACH;FMTTYPE=image/jpeg:/wp-content/uploads/2026/03/IM13.png
END:VEVENT
END:VCALENDAR