BEGIN:VCALENDAR
VERSION:2.0
PRODID:-//wp-events-plugin.com//6.6.4.4//EN
BEGIN:VEVENT
UID:37@indomelati.eu
DTSTART:20240720T120000Z
DTEND:20240720T143000Z
DTSTAMP:20240715T202807Z
URL:https://indomelati.eu/evenementen/rit-voor-de-biervereniging-delfzijl/
SUMMARY:Rit voor De Biervereniging Delfzijl
DESCRIPTION:Op zaterdag 20 juli 2024 willen we van 13.00 tot 15.30 gaan ron
 drijden met kinderen en/of bewoners van een wijk in Delfzijl. Het aantal i
 s onbekend.\n\nDe Biervereniging Delfzijl o.l.v. Marco Wever organiseert d
 it i.s.m Johan en Anita Schansema van Eetcafé Ons Stee.\n\nKlik op de pei
 ling app aan wat van toepassing is voor jullie.\n\nDraaiboek :\n\n11.45 - 
 Aanwezig Eetcafé Ons Stee\n12.00 - Lunch Koffie /thee\n12.55 - Opstappen 
 Trikes\n13.00 - Start Ritten\n14.00 - Kleine pauze\n14.15 - Opstappen Trik
 es\n14.20 - Start Ritten\n15.30 a 15.45 - Einde Ritten\n\nRond 16.30 a 16.
 45 uur BBQ aangeboden door Johan en Anita voor iederéén die mee heeft ge
 reden.\n\nIn de avond is er een DJ in de zaal.\n\nDus wil jij je dag compl
 eet maken blijf dan gezellig.\n\nAdres :\nEetcafé Ons Stee\nSkagerak 107\
 n9933 SG Delfzijl\n\nMet vriendelijke groet\,\n\nStichting Indo Melati
ATTACH;FMTTYPE=image/jpeg:/wp-content/uploads/2023/05/a8d1a430-3e74-42fa-a
 099-156371a9703d.jpg
END:VEVENT
END:VCALENDAR