BEGIN:VCALENDAR
VERSION:2.0
PRODID:-//wp-events-plugin.com//6.6.4.4//EN
BEGIN:VEVENT
UID:64@indomelati.eu
DTSTART:20260509T120000Z
DTEND:20260509T150000Z
DTSTAMP:20260414T080013Z
URL:https://indomelati.eu/evenementen/ritje-woonzorgcentrum-voor-anker/
SUMMARY:Rit Woonzorgcentrum Voor Anker
DESCRIPTION:Op zaterdag 09 mei 2026 staat er een rit gepland voor Zorgcentr
 um Olderloug in Slochteren. Dit is voor bewoners van Woonzorgcentrum Voor 
 't Anker uit Hoogezand.\n\nDraaiboek:\n\n13.00 uur aanwezig Olderloug\nAdr
 es: Slochterdiep 3\n9621 BA Slochteren\nOntvangen met koffie of thee\n\n13
 .30 uur opstappen bewoners\n13.45 uur vertrek rondrit.\nAantal rondes en t
 ijdsduur rit is afhankelijk hoeveel bewoners er meerijden. Men denkt tusse
 n de 15 en 25 mensen.\n16.00 uur einde rondritten en mogelijkheid om nog f
 f wat te drinken.
ATTACH;FMTTYPE=image/jpeg:/wp-content/uploads/2026/03/f0bfffc4-8ab7-4d42-a
 c72-a3c64861f848.jpg
END:VEVENT
END:VCALENDAR